BEGIN:VCALENDAR
PRODID:-//http://statistik.d-u-v.org//PHP ultracalendar//EN
VERSION:2.0
METHOD:PUBLISH
BEGIN:VEVENT
DTSTAMP:20260419T164646
CREATED:20200324T120532
UID:1776617206.0.41930600-65873@statistik.d-u-v.org
SUMMARY:Coastal Georgia Greenway (CGG) 155 Mile Ultra
DESCRIPTION: Coastal Georgia Greenway (CGG) 155 Mile Ultra\n
  \n
  dlh14255[at]gmail.com
DTSTART:20210305T050000
DTEND:20210307T235900
LOCATION:Savannah, GA\, USA
URL:http://roughrunnersr4r.com/coastal-georgia-greenway-155-mile-ultra-cgg-155/
CATEGORIES:Ultramarathon
CONTACT:
CLASS:PUBLIC
PRIORITY:5
TRANSP:OPAQUE
END:VEVENT
END:VCALENDAR
