BEGIN:VCALENDAR
PRODID:-//http://statistik.d-u-v.org//PHP ultracalendar//EN
VERSION:2.0
METHOD:PUBLISH
BEGIN:VEVENT
DTSTAMP:20260419T192429
CREATED:20200323T141452
UID:1776626669.0.17938700-65849@statistik.d-u-v.org
SUMMARY:Distance24
DESCRIPTION: Distance24\n
  \n
  eventdirector[at]distance.gg
DTSTART:20200704T120000
DTEND:20200705T235900
LOCATION:St. Peter Port\, GBR
URL:https://race-nation.co.uk/register/distance-gg/distance24
CATEGORIES:Ultramarathon
CONTACT:
CLASS:PUBLIC
PRIORITY:5
TRANSP:OPAQUE
END:VEVENT
END:VCALENDAR
