BEGIN:VCALENDAR
PRODID:-//http://statistik.d-u-v.org//PHP ultracalendar//EN
VERSION:2.0
METHOD:PUBLISH
BEGIN:VEVENT
DTSTAMP:20260419T164346
CREATED:20200317T142941
UID:1776617026.0.89241900-65743@statistik.d-u-v.org
SUMMARY:J&J Race and Trail Running Reunion 50 Mile Race
DESCRIPTION: J&J Race and Trail Running Reunion 50 Mile Race\n
  Chris McWatters\n
  chris[at]tejastrails.com
DTSTART:20200315T063000
DTEND:00000000T235900
LOCATION:Rocksprings, TX\, USA
URL:https://www.tejastrails.com/#/jandj/
CATEGORIES:Ultramarathon
CONTACT:Chris McWatters
CLASS:PUBLIC
PRIORITY:5
TRANSP:OPAQUE
END:VEVENT
END:VCALENDAR
