BEGIN:VCALENDAR
PRODID:-//http://statistik.d-u-v.org//PHP ultracalendar//EN
VERSION:2.0
METHOD:PUBLISH
BEGIN:VEVENT
DTSTAMP:20260423T031334
CREATED:20200313T093811
UID:1776914014.0.73451900-65669@statistik.d-u-v.org
SUMMARY:Golden Gate 50 km Summer Trail Run
DESCRIPTION: Golden Gate 50 km Summer Trail Run\n
  \n
  
DTSTART:20200919T000000
DTEND:00000000T235900
LOCATION:San Francisco, CA\, USA
URL:http://www.coastaltrailruns.com/gg_smmr_golden_gate.html
CATEGORIES:Ultramarathon
CONTACT:
CLASS:PUBLIC
PRIORITY:5
TRANSP:OPAQUE
END:VEVENT
END:VCALENDAR
