BEGIN:VCALENDAR
PRODID:-//http://statistik.d-u-v.org//PHP ultracalendar//EN
VERSION:2.0
METHOD:PUBLISH
BEGIN:VEVENT
DTSTAMP:20260419T204146
CREATED:20200313T085507
UID:1776631306.0.64280400-65643@statistik.d-u-v.org
SUMMARY:Dam Yeti 50 Mile Race
DESCRIPTION: Dam Yeti 50 Mile Race\n
  \n
  
DTSTART:20200912T000000
DTEND:00000000T235900
LOCATION:Damascus, VA\, USA
URL:https://www.yetitrailrunners.com/races/dam-yeti-50-miler
CATEGORIES:Ultramarathon
CONTACT:
CLASS:PUBLIC
PRIORITY:5
TRANSP:OPAQUE
END:VEVENT
END:VCALENDAR
