BEGIN:VCALENDAR
PRODID:-//http://statistik.d-u-v.org//PHP ultracalendar//EN
VERSION:2.0
METHOD:PUBLISH
BEGIN:VEVENT
DTSTAMP:20260421T222753
CREATED:20200310T104013
UID:1776810473.0.59580300-65546@statistik.d-u-v.org
SUMMARY:Ruco Ultra Trail (RUT) 100 kms
DESCRIPTION: Ruco Ultra Trail (RUT) 100 kms\n
  \n
  
DTSTART:20200801T000000
DTEND:20200802T235900
LOCATION:Quito\, ECU
URL:https://www.rucoultra.com/
CATEGORIES:Ultramarathon
CONTACT:
CLASS:PUBLIC
PRIORITY:5
TRANSP:OPAQUE
END:VEVENT
END:VCALENDAR
