BEGIN:VCALENDAR
PRODID:-//http://statistik.d-u-v.org//PHP ultracalendar//EN
VERSION:2.0
METHOD:PUBLISH
BEGIN:VEVENT
DTSTAMP:20260423T055300
CREATED:20200309T102040
UID:1776923580.0.86326500-65498@statistik.d-u-v.org
SUMMARY:Yunsen Waterfall Ultra Run
DESCRIPTION: Yunsen Waterfall Ultra Run\n
  \n
  
DTSTART:20200315T060000
DTEND:00000000T235900
LOCATION:Sanxia District\, TPE
URL:https://www.ibodygo.com.tw/EventTopic.aspx?n=967
CATEGORIES:Ultramarathon
CONTACT:
CLASS:PUBLIC
PRIORITY:5
TRANSP:OPAQUE
END:VEVENT
END:VCALENDAR
