BEGIN:VCALENDAR
PRODID:-//http://statistik.d-u-v.org//PHP ultracalendar//EN
VERSION:2.0
METHOD:PUBLISH
BEGIN:VEVENT
DTSTAMP:20260423T031320
CREATED:20200227T221519
UID:1776914000.0.71764400-65358@statistik.d-u-v.org
SUMMARY:LegendRun45
DESCRIPTION: LegendRun45\n
  lessinialegendrun@gmail.com\n
  lessinialegendrun[at]gmail.com
DTSTART:20200927T070000
DTEND:20200927T180000
LOCATION:Velo Veronese\, ITA
URL:http://www.legendrun.it
CATEGORIES:Ultramarathon
CONTACT:lessinialegendrun@gmail.com
CLASS:PUBLIC
PRIORITY:5
TRANSP:OPAQUE
END:VEVENT
END:VCALENDAR
