BEGIN:VCALENDAR
PRODID:-//http://statistik.d-u-v.org//PHP ultracalendar//EN
VERSION:2.0
METHOD:PUBLISH
BEGIN:VEVENT
DTSTAMP:20260421T035145
CREATED:20200221T203820
UID:1776743505.0.54035200-65178@statistik.d-u-v.org
SUMMARY:Stranda Fjord Trail Race 48/100km
DESCRIPTION: Stranda Fjord Trail Race 48/100km\n
  Oscar Almgren\n
  post[at]strandafjordtrailrace.com
DTSTART:20200808T080000
DTEND:00000000T235900
LOCATION:Opshaug\, NOR
URL:https://strandafjordtrailrace.com
CATEGORIES:Ultramarathon
CONTACT:Oscar Almgren
CLASS:PUBLIC
PRIORITY:5
TRANSP:OPAQUE
END:VEVENT
END:VCALENDAR
