BEGIN:VCALENDAR
PRODID:-//http://statistik.d-u-v.org//PHP ultracalendar//EN
VERSION:2.0
METHOD:PUBLISH
BEGIN:VEVENT
DTSTAMP:20260419T233332
CREATED:20200221T192519
UID:1776641612.0.01636800-65171@statistik.d-u-v.org
SUMMARY:EcoTrail of Oslo 50 km
DESCRIPTION: EcoTrail of Oslo 50 km\n
  \n
  info[at]ecotrailoslo.com; tomas[at]ecotrailoslo.com
DTSTART:20200530T100000
DTEND:00000000T235900
LOCATION:Oslo\, NOR
URL:http://ecotrailoslo.com/
CATEGORIES:Ultramarathon
CONTACT:
CLASS:PUBLIC
PRIORITY:5
TRANSP:OPAQUE
END:VEVENT
END:VCALENDAR
