BEGIN:VCALENDAR
PRODID:-//http://statistik.d-u-v.org//PHP ultracalendar//EN
VERSION:2.0
METHOD:PUBLISH
BEGIN:VEVENT
DTSTAMP:20260420T012853
CREATED:20200220T200219
UID:1776648533.0.32819300-65159@statistik.d-u-v.org
SUMMARY:Östgöta Ultra Trail
DESCRIPTION: Östgöta Ultra Trail\n
  Kristofer Backlund\n
  ostgotaultratrail[at]gmail.com
DTSTART:20200919T090000
DTEND:00000000T235900
LOCATION:Kisa\, SWE
URL:https://www.facebook.com/%C3%96stg%C3%B6ta-ultra-trail-2019-344092323078226/
CATEGORIES:Ultramarathon
CONTACT:Kristofer Backlund
CLASS:PUBLIC
PRIORITY:5
TRANSP:OPAQUE
END:VEVENT
END:VCALENDAR
