BEGIN:VCALENDAR
PRODID:-//http://statistik.d-u-v.org//PHP ultracalendar//EN
VERSION:2.0
METHOD:PUBLISH
BEGIN:VEVENT
DTSTAMP:20260419T182115
CREATED:20200219T164400
UID:1776622875.0.94168100-65099@statistik.d-u-v.org
SUMMARY:The Delmarva Ultra Challenge (DUC)
DESCRIPTION: The Delmarva Ultra Challenge (DUC)\n
  \n
  
DTSTART:20200207T210000
DTEND:20200208T235900
LOCATION:Pocomoke, MD\, USA
URL:https://alq50k.com/
CATEGORIES:Ultramarathon
CONTACT:
CLASS:PUBLIC
PRIORITY:5
TRANSP:OPAQUE
END:VEVENT
END:VCALENDAR
