BEGIN:VCALENDAR
PRODID:-//http://statistik.d-u-v.org//PHP ultracalendar//EN
VERSION:2.0
METHOD:PUBLISH
BEGIN:VEVENT
DTSTAMP:20260423T050408
CREATED:20200214T170939
UID:1776920648.0.40212800-65005@statistik.d-u-v.org
SUMMARY:Personliga Rekordens Tävling 12 hour
DESCRIPTION: Personliga Rekordens Tävling 12 hour\n
  Daniel Westergren\n
  info[at]prtvaxjo.se
DTSTART:20201212T230000
DTEND:20201213T110000
LOCATION:Växjö\, SWE
URL:http://www.prtvaxjo.se
CATEGORIES:Ultramarathon
CONTACT:Daniel Westergren
CLASS:PUBLIC
PRIORITY:5
TRANSP:OPAQUE
END:VEVENT
END:VCALENDAR
