BEGIN:VCALENDAR
PRODID:-//http://statistik.d-u-v.org//PHP ultracalendar//EN
VERSION:2.0
METHOD:PUBLISH
BEGIN:VEVENT
DTSTAMP:20260423T071028
CREATED:20200213T154908
UID:1776928228.0.68218800-65003@statistik.d-u-v.org
SUMMARY:VXO Trail Spring
DESCRIPTION: VXO Trail Spring\n
  Andy Ekberg\n
  vaxjoloparklubb[at]gmail.com
DTSTART:20200516T080000
DTEND:00000000T235900
LOCATION:Växjö\, SWE
URL:https://www.vaxjoloparklubb.nu/
CATEGORIES:Ultramarathon
CONTACT:Andy Ekberg
CLASS:PUBLIC
PRIORITY:5
TRANSP:OPAQUE
END:VEVENT
END:VCALENDAR
