BEGIN:VCALENDAR
PRODID:-//http://statistik.d-u-v.org//PHP ultracalendar//EN
VERSION:2.0
METHOD:PUBLISH
BEGIN:VEVENT
DTSTAMP:20260423T020328
CREATED:20200208T143714
UID:1776909808.0.00814800-64918@statistik.d-u-v.org
SUMMARY:Sri Chinmoy 24 Hour Races Sydney - 200km Split
DESCRIPTION: Sri Chinmoy 24 Hour Races Sydney - 200km Split\n
  Race Director: Prachar Stegemann\n
  sydney[at]srichinmoyraces.org
DTSTART:20190615T090000
DTEND:20190616T090000
LOCATION:Sydney, NSW\, AUS
URL:http://au.srichinmoyraces.org/events/24hour/
CATEGORIES:Ultramarathon
CONTACT:Race Director: Prachar Stegemann
CLASS:PUBLIC
PRIORITY:5
TRANSP:OPAQUE
END:VEVENT
END:VCALENDAR
