BEGIN:VCALENDAR
PRODID:-//http://statistik.d-u-v.org//PHP ultracalendar//EN
VERSION:2.0
METHOD:PUBLISH
BEGIN:VEVENT
DTSTAMP:20260419T185916
CREATED:20200205T083842
UID:1776625156.0.05234900-64884@statistik.d-u-v.org
SUMMARY:Oklahoma Gravel Growler 55km Ultra
DESCRIPTION: Oklahoma Gravel Growler 55km Ultra\n
  \n
  
DTSTART:20200201T080000
DTEND:00000000T235900
LOCATION:Shawnee, OK\, USA
URL:https://runsignup.com/Race/OK/Shawnee/OklahomaGravelGrowlerUltra
CATEGORIES:Ultramarathon
CONTACT:
CLASS:PUBLIC
PRIORITY:5
TRANSP:OPAQUE
END:VEVENT
END:VCALENDAR
