BEGIN:VCALENDAR
PRODID:-//http://statistik.d-u-v.org//PHP ultracalendar//EN
VERSION:2.0
METHOD:PUBLISH
BEGIN:VEVENT
DTSTAMP:20260424T155234
CREATED:20190102T215043
UID:1777045954.0.02731200-64813@statistik.d-u-v.org
SUMMARY:Bärenfels Sommer-Trail
DESCRIPTION: Bärenfels Sommer-Trail\n
  Robert Feller\n
  info[at]baerenfelslauf.de
DTSTART:20210704T090000
DTEND:00000000T235900
LOCATION:Neubrücke/Nahe\, GER
URL:http://www.baerenfelslauf.de
CATEGORIES:Ultramarathon
CONTACT:Robert Feller
CLASS:PUBLIC
PRIORITY:5
TRANSP:OPAQUE
END:VEVENT
END:VCALENDAR
