BEGIN:VCALENDAR
PRODID:-//http://statistik.d-u-v.org//PHP ultracalendar//EN
VERSION:2.0
METHOD:PUBLISH
BEGIN:VEVENT
DTSTAMP:20260419T192349
CREATED:20200131T103538
UID:1776626629.0.07155500-64691@statistik.d-u-v.org
SUMMARY:Enigma Gold Run
DESCRIPTION: Enigma Gold Run\n
  David "Foxy" Bayley\n
  dbmk[at]hotmail.co.uk
DTSTART:20190920T083000
DTEND:00000000T235900
LOCATION:Milton Keynes\, GBR
URL:http://www.enigmarunning.co.uk
CATEGORIES:Ultramarathon
CONTACT:David "Foxy" Bayley
CLASS:PUBLIC
PRIORITY:5
TRANSP:OPAQUE
END:VEVENT
END:VCALENDAR
