BEGIN:VCALENDAR
PRODID:-//http://statistik.d-u-v.org//PHP ultracalendar//EN
VERSION:2.0
METHOD:PUBLISH
BEGIN:VEVENT
DTSTAMP:20260419T192328
CREATED:20200131T101926
UID:1776626608.0.03709700-64688@statistik.d-u-v.org
SUMMARY:Enigma 6 Hour Enduro
DESCRIPTION: Enigma 6 Hour Enduro\n
  David "Foxy" Bayley\n
  dbmk[at]hotmail.co.uk
DTSTART:20131123T000000
DTEND:00000000T235900
LOCATION:Milton Keynes\, GBR
URL:http://www.enigmarunning.co.uk
CATEGORIES:Ultramarathon
CONTACT:David "Foxy" Bayley
CLASS:PUBLIC
PRIORITY:5
TRANSP:OPAQUE
END:VEVENT
END:VCALENDAR
