BEGIN:VCALENDAR
PRODID:-//http://statistik.d-u-v.org//PHP ultracalendar//EN
VERSION:2.0
METHOD:PUBLISH
BEGIN:VEVENT
DTSTAMP:20260423T020237
CREATED:20200123T102249
UID:1776909757.0.65460300-64547@statistik.d-u-v.org
SUMMARY:Dead Truck Race
DESCRIPTION: Dead Truck Race\n
  \n
  
DTSTART:20200118T080000
DTEND:00000000T235900
LOCATION:Auburn, CA\, USA
URL:https://ssmountainracing.net/dead-truck-50k/
CATEGORIES:Ultramarathon
CONTACT:
CLASS:PUBLIC
PRIORITY:5
TRANSP:OPAQUE
END:VEVENT
END:VCALENDAR
