BEGIN:VCALENDAR
PRODID:-//http://statistik.d-u-v.org//PHP ultracalendar//EN
VERSION:2.0
METHOD:PUBLISH
BEGIN:VEVENT
DTSTAMP:20260420T000629
CREATED:20200122T223445
UID:1776643589.0.16080400-64538@statistik.d-u-v.org
SUMMARY:Ultra Trail Sierra De Segura
DESCRIPTION: Ultra Trail Sierra De Segura\n
  \n
  info[at]ultrasierrasegura.com
DTSTART:20190921T000000
DTEND:00000000T235900
LOCATION:Santiago Pontones\, ESP
URL:http://ultrasierrasegura.com/
CATEGORIES:Ultramarathon
CONTACT:
CLASS:PUBLIC
PRIORITY:5
TRANSP:OPAQUE
END:VEVENT
END:VCALENDAR
