BEGIN:VCALENDAR
PRODID:-//http://statistik.d-u-v.org//PHP ultracalendar//EN
VERSION:2.0
METHOD:PUBLISH
BEGIN:VEVENT
DTSTAMP:20260420T205129
CREATED:20200117T172142
UID:1776718289.0.73009200-64437@statistik.d-u-v.org
SUMMARY:Mount Everest 60 km Extreme Ultra Marathon
DESCRIPTION: Mount Everest 60 km Extreme Ultra Marathon\n
  Michele Ufer\n
  team[at]trailrunning-adventure.com
DTSTART:20200529T060000
DTEND:00000000T235900
LOCATION:Khumbu Valley\, NEP
URL:http://everestmarathon.de
CATEGORIES:Ultramarathon
CONTACT:Michele Ufer
CLASS:PUBLIC
PRIORITY:5
TRANSP:OPAQUE
END:VEVENT
END:VCALENDAR
