BEGIN:VCALENDAR
PRODID:-//http://statistik.d-u-v.org//PHP ultracalendar//EN
VERSION:2.0
METHOD:PUBLISH
BEGIN:VEVENT
DTSTAMP:20260419T203015
CREATED:20200111T171640
UID:1776630615.0.06486700-64246@statistik.d-u-v.org
SUMMARY:Canberra 50km Ultramarathon
DESCRIPTION: Canberra 50km Ultramarathon\n
  Melanie Stewart\n
  brent[at]solemotive.com
DTSTART:20210411T000000
DTEND:00000000T235900
LOCATION:Canberra, ACT\, AUS
URL:https://events.solemotive.com/canberra-times-marathon-festival/
CATEGORIES:Ultramarathon
CONTACT:Melanie Stewart
CLASS:PUBLIC
PRIORITY:5
TRANSP:OPAQUE
END:VEVENT
END:VCALENDAR
