BEGIN:VCALENDAR
PRODID:-//http://statistik.d-u-v.org//PHP ultracalendar//EN
VERSION:2.0
METHOD:PUBLISH
BEGIN:VEVENT
DTSTAMP:20260419T192734
CREATED:20200110T102616
UID:1776626854.0.80183400-64200@statistik.d-u-v.org
SUMMARY:Swamp Fox Ultra 50mi
DESCRIPTION: Swamp Fox Ultra 50mi\n
  \n
  eagle.endurance[at]gmail.com
DTSTART:20201114T060000
DTEND:00000000T235900
LOCATION:McClellanville, SC\, USA
URL:http://www.eagle-endurance.com/home.html
CATEGORIES:Ultramarathon
CONTACT:
CLASS:PUBLIC
PRIORITY:5
TRANSP:OPAQUE
END:VEVENT
END:VCALENDAR
