BEGIN:VCALENDAR
PRODID:-//http://statistik.d-u-v.org//PHP ultracalendar//EN
VERSION:2.0
METHOD:PUBLISH
BEGIN:VEVENT
DTSTAMP:20260423T022554
CREATED:20200109T111611
UID:1776911154.0.56517100-64137@statistik.d-u-v.org
SUMMARY:Febapple Frozen 50 Miles
DESCRIPTION: Febapple Frozen 50 Miles\n
  Rick McNulty\n
  njtrailseries[at]gmail.com
DTSTART:20200222T070000
DTEND:00000000T235900
LOCATION:Maplewood, NJ\, USA
URL:https://sites.google.com/site/njtrailseries/febapple
CATEGORIES:Ultramarathon
CONTACT:Rick McNulty
CLASS:PUBLIC
PRIORITY:5
TRANSP:OPAQUE
END:VEVENT
END:VCALENDAR
