BEGIN:VCALENDAR
PRODID:-//http://statistik.d-u-v.org//PHP ultracalendar//EN
VERSION:2.0
METHOD:PUBLISH
BEGIN:VEVENT
DTSTAMP:20260424T121829
CREATED:20200108T111242
UID:1777033109.0.31400900-64115@statistik.d-u-v.org
SUMMARY:Meat Grinder Trail Race
DESCRIPTION: Meat Grinder Trail Race\n
  \n
  
DTSTART:20191123T080000
DTEND:00000000T235900
LOCATION:Newcastle, CA\, USA
URL:https://www.facebook.com/ssmountainracing/
CATEGORIES:Ultramarathon
CONTACT:
CLASS:PUBLIC
PRIORITY:5
TRANSP:OPAQUE
END:VEVENT
END:VCALENDAR
