BEGIN:VCALENDAR
PRODID:-//http://statistik.d-u-v.org//PHP ultracalendar//EN
VERSION:2.0
METHOD:PUBLISH
BEGIN:VEVENT
DTSTAMP:20260425T233211
CREATED:20191230T154543
UID:1777159931.0.56678500-63845@statistik.d-u-v.org
SUMMARY:Ultra Marathon Mt. Xiang
DESCRIPTION: Ultra Marathon Mt. Xiang\n
  \n
  
DTSTART:20191109T060000
DTEND:00000000T235900
LOCATION:Beijing City\, CHN
URL:https://www.weibo.com/u/3281443130
CATEGORIES:Ultramarathon
CONTACT:
CLASS:PUBLIC
PRIORITY:5
TRANSP:OPAQUE
END:VEVENT
END:VCALENDAR
