BEGIN:VCALENDAR
PRODID:-//http://statistik.d-u-v.org//PHP ultracalendar//EN
VERSION:2.0
METHOD:PUBLISH
BEGIN:VEVENT
DTSTAMP:20260419T164808
CREATED:20191226T164606
UID:1776617288.0.99292400-63688@statistik.d-u-v.org
SUMMARY:Sky Pilots Ouray Backyard Ultra
DESCRIPTION: Sky Pilots Ouray Backyard Ultra\n
  Eric Robinson or Ginny LaForme\n
  shortcutvelociraptor[at]gmail.com; truchaspeaks7[at]hotmail.com
DTSTART:20200516T090000
DTEND:00000000T235900
LOCATION:Ouray, CO\, USA
URL:http://skypilots.org/events/backyard.php
CATEGORIES:Ultramarathon
CONTACT:Eric Robinson or Ginny LaForme
CLASS:PUBLIC
PRIORITY:5
TRANSP:OPAQUE
END:VEVENT
END:VCALENDAR
