BEGIN:VCALENDAR
PRODID:-//http://statistik.d-u-v.org//PHP ultracalendar//EN
VERSION:2.0
METHOD:PUBLISH
BEGIN:VEVENT
DTSTAMP:20260419T220711
CREATED:20191225T172015
UID:1776636431.0.35229700-63648@statistik.d-u-v.org
SUMMARY:Jurassic Coast Challenge
DESCRIPTION: Jurassic Coast Challenge\n
  \n
  jurassic[at]ultrachallenge.com
DTSTART:20200919T000000
DTEND:20200920T235900
LOCATION:Poole\, GBR
URL:https://www.ultrachallenge.com/jurassic-coast-challenge
CATEGORIES:Ultramarathon
CONTACT:
CLASS:PUBLIC
PRIORITY:5
TRANSP:OPAQUE
END:VEVENT
END:VCALENDAR
