BEGIN:VCALENDAR
PRODID:-//http://statistik.d-u-v.org//PHP ultracalendar//EN
VERSION:2.0
METHOD:PUBLISH
BEGIN:VEVENT
DTSTAMP:20260423T014826
CREATED:20191220T123504
UID:1776908906.0.90814600-63528@statistik.d-u-v.org
SUMMARY:Self-Transcendence 24/12/6 Hour Race Belgrade
DESCRIPTION: Self-Transcendence 24/12/6 Hour Race Belgrade\n
  Irina Skerl\n
  scmt.rs[at]srichinmoyraces.org
DTSTART:20200926T110000
DTEND:20200927T110000
LOCATION:Belgrad\, SRB
URL:https://rs.srichinmoyraces.org/beograd_ultra
CATEGORIES:Ultramarathon
CONTACT:Irina Skerl
CLASS:PUBLIC
PRIORITY:5
TRANSP:OPAQUE
END:VEVENT
END:VCALENDAR
