BEGIN:VCALENDAR
PRODID:-//http://statistik.d-u-v.org//PHP ultracalendar//EN
VERSION:2.0
METHOD:PUBLISH
BEGIN:VEVENT
DTSTAMP:20260419T190024
CREATED:20191218T192304
UID:1776625224.0.12199000-63450@statistik.d-u-v.org
SUMMARY:Personliga Rekordens Tävling 12 hour - 100km Split
DESCRIPTION: Personliga Rekordens Tävling 12 hour - 100km Split\n
  Daniel Westergren\n
  info[at]prtvaxjo.se
DTSTART:20191214T200000
DTEND:20191215T080000
LOCATION:Växjö\, SWE
URL:http://www.prtvaxjo.se
CATEGORIES:Ultramarathon
CONTACT:Daniel Westergren
CLASS:PUBLIC
PRIORITY:5
TRANSP:OPAQUE
END:VEVENT
END:VCALENDAR
