BEGIN:VCALENDAR
PRODID:-//http://statistik.d-u-v.org//PHP ultracalendar//EN
VERSION:2.0
METHOD:PUBLISH
BEGIN:VEVENT
DTSTAMP:20260420T000706
CREATED:20191211T135009
UID:1776643626.0.02055600-63169@statistik.d-u-v.org
SUMMARY:The Dales High Way Ultra 90mi
DESCRIPTION: The Dales High Way Ultra 90mi\n
  Ryk Downes\n
  admin[at]punkpanther.co.uk
DTSTART:20200509T000000
DTEND:20200510T235900
LOCATION:Saltaire\, GBR
URL:http://punkpanther.co.uk
CATEGORIES:Ultramarathon
CONTACT:Ryk Downes
CLASS:PUBLIC
PRIORITY:5
TRANSP:OPAQUE
END:VEVENT
END:VCALENDAR
