BEGIN:VCALENDAR
PRODID:-//http://statistik.d-u-v.org//PHP ultracalendar//EN
VERSION:2.0
METHOD:PUBLISH
BEGIN:VEVENT
DTSTAMP:20260420T003920
CREATED:20191208T143055
UID:1776645560.0.93562100-63016@statistik.d-u-v.org
SUMMARY:Way's Bluff 50K
DESCRIPTION: Way's Bluff 50K\n
  \n
  
DTSTART:20201010T080000
DTEND:00000000T235900
LOCATION:Canton, MS\, USA
URL:http://www.mutsrunning.org
CATEGORIES:Ultramarathon
CONTACT:
CLASS:PUBLIC
PRIORITY:5
TRANSP:OPAQUE
END:VEVENT
END:VCALENDAR
