BEGIN:VCALENDAR
PRODID:-//http://statistik.d-u-v.org//PHP ultracalendar//EN
VERSION:2.0
METHOD:PUBLISH
BEGIN:VEVENT
DTSTAMP:20260419T195124
CREATED:20061230T000000
UID:1776628284.0.10255800-630@statistik.d-u-v.org
SUMMARY:100km Ultramarathon Levis
DESCRIPTION: 100km Ultramarathon Levis\n
  \n
  triathlonlevis[at]hotmail.com
DTSTART:20060707T000000
DTEND:00000000T235900
LOCATION:Levis, QC\, CAN
URL:http://www.triathlon-levis.com
CATEGORIES:Ultramarathon
CONTACT:
CLASS:PUBLIC
PRIORITY:5
TRANSP:OPAQUE
END:VEVENT
END:VCALENDAR
