BEGIN:VCALENDAR
PRODID:-//http://statistik.d-u-v.org//PHP ultracalendar//EN
VERSION:2.0
METHOD:PUBLISH
BEGIN:VEVENT
DTSTAMP:20260419T195211
CREATED:20191207T181120
UID:1776628331.0.18236800-62998@statistik.d-u-v.org
SUMMARY:Black River Trail Classic 50 Km
DESCRIPTION: Black River Trail Classic 50 Km\n
  \n
  
DTSTART:20201017T073000
DTEND:00000000T235900
LOCATION:Millston, WI\, USA
URL:https://nurun.co/brtc
CATEGORIES:Ultramarathon
CONTACT:
CLASS:PUBLIC
PRIORITY:5
TRANSP:OPAQUE
END:VEVENT
END:VCALENDAR
