BEGIN:VCALENDAR
PRODID:-//http://statistik.d-u-v.org//PHP ultracalendar//EN
VERSION:2.0
METHOD:PUBLISH
BEGIN:VEVENT
DTSTAMP:20260423T020548
CREATED:20191204T164404
UID:1776909948.0.73864500-62910@statistik.d-u-v.org
SUMMARY:One Day in Auburn 12h Day Run
DESCRIPTION: One Day in Auburn 12h Day Run\n
  \n
  
DTSTART:20200112T060000
DTEND:00000000T235900
LOCATION:Auburn, CA\, USA
URL:http://singletrackrunning.com/one-day-in-auburn/
CATEGORIES:Ultramarathon
CONTACT:
CLASS:PUBLIC
PRIORITY:5
TRANSP:OPAQUE
END:VEVENT
END:VCALENDAR
