BEGIN:VCALENDAR
PRODID:-//http://statistik.d-u-v.org//PHP ultracalendar//EN
VERSION:2.0
METHOD:PUBLISH
BEGIN:VEVENT
DTSTAMP:20260423T014722
CREATED:20191202T102902
UID:1776908842.0.27955600-62820@statistik.d-u-v.org
SUMMARY:The Hamsterwheel 24 Hour Run
DESCRIPTION: The Hamsterwheel 24 Hour Run\n
  Race Director Bill Conley\n
  runcrazyfar[at]yahoo.com
DTSTART:20201107T000000
DTEND:20201108T235900
LOCATION:New Boston, NH\, USA
URL:https://www.facebook.com/hmstrwheel/
CATEGORIES:Ultramarathon
CONTACT:Race Director Bill Conley
CLASS:PUBLIC
PRIORITY:5
TRANSP:OPAQUE
END:VEVENT
END:VCALENDAR
