BEGIN:VCALENDAR
PRODID:-//http://statistik.d-u-v.org//PHP ultracalendar//EN
VERSION:2.0
METHOD:PUBLISH
BEGIN:VEVENT
DTSTAMP:20260419T200539
CREATED:20100124T170109
UID:1776629139.0.58361900-6272@statistik.d-u-v.org
SUMMARY:Sri Chinmoy 24 Hour Festival of Running - 50km Split
DESCRIPTION: Sri Chinmoy 24 Hour Festival of Running - 50km Split\n
  \n
  
DTSTART:20031003T000000
DTEND:20031004T235900
LOCATION:Adelaide, SA\, AUS
URL:
CATEGORIES:Ultramarathon
CONTACT:
CLASS:PUBLIC
PRIORITY:5
TRANSP:OPAQUE
END:VEVENT
END:VCALENDAR
