BEGIN:VCALENDAR
PRODID:-//http://statistik.d-u-v.org//PHP ultracalendar//EN
VERSION:2.0
METHOD:PUBLISH
BEGIN:VEVENT
DTSTAMP:20260423T054057
CREATED:20191128T190045
UID:1776922857.0.03344800-62687@statistik.d-u-v.org
SUMMARY:Pune 50 km UltraMarathon
DESCRIPTION: Pune 50 km UltraMarathon\n
  \n
  puneultramarathon[at]gmail.com
DTSTART:20191116T060000
DTEND:00000000T235900
LOCATION:Loni Kalbhor\, IND
URL:https://www.townscript.com/e/puneultramarathon
CATEGORIES:Ultramarathon
CONTACT:
CLASS:PUBLIC
PRIORITY:5
TRANSP:OPAQUE
END:VEVENT
END:VCALENDAR
