BEGIN:VCALENDAR
PRODID:-//http://statistik.d-u-v.org//PHP ultracalendar//EN
VERSION:2.0
METHOD:PUBLISH
BEGIN:VEVENT
DTSTAMP:20260423T053944
CREATED:20191127T171939
UID:1776922784.0.39320500-62644@statistik.d-u-v.org
SUMMARY:Feral Pig Ultra 50 mi
DESCRIPTION: Feral Pig Ultra 50 mi\n
  Race Director Shaun Kaesler\n
  shaun[at]ultraserieswa.com
DTSTART:20201107T060000
DTEND:00000000T235900
LOCATION:Mundaring, WA\, AUS
URL:http://feralpigultra.com.au
CATEGORIES:Ultramarathon
CONTACT:Race Director Shaun Kaesler
CLASS:PUBLIC
PRIORITY:5
TRANSP:OPAQUE
END:VEVENT
END:VCALENDAR
