BEGIN:VCALENDAR
PRODID:-//http://statistik.d-u-v.org//PHP ultracalendar//EN
VERSION:2.0
METHOD:PUBLISH
BEGIN:VEVENT
DTSTAMP:20260422T134026
CREATED:20191125T220659
UID:1776865226.0.42765400-62579@statistik.d-u-v.org
SUMMARY:Wien - Rundumadum 88 km
DESCRIPTION: Wien - Rundumadum 88 km\n
  Markus Michelitsch\n
  office[at]wien-rundumadum.at
DTSTART:20191102T080000
DTEND:20191103T030000
LOCATION:Wien\, AUT
URL:http://www.wien-rundumadum.at/
CATEGORIES:Ultramarathon
CONTACT:Markus Michelitsch
CLASS:PUBLIC
PRIORITY:5
TRANSP:OPAQUE
END:VEVENT
END:VCALENDAR
