BEGIN:VCALENDAR
PRODID:-//http://statistik.d-u-v.org//PHP ultracalendar//EN
VERSION:2.0
METHOD:PUBLISH
BEGIN:VEVENT
DTSTAMP:20260419T182145
CREATED:20191121T145648
UID:1776622905.0.41610200-62382@statistik.d-u-v.org
SUMMARY:Leenderbos Trail
DESCRIPTION: Leenderbos Trail\n
  Cor van Disseldorp\n
  cor[at]trail-running.eu
DTSTART:20200105T090000
DTEND:20200105T180000
LOCATION:Leende\, NED
URL:https://trail-events.com/events-home/leenderbos-trail_fall/
CATEGORIES:Ultramarathon
CONTACT:Cor van Disseldorp
CLASS:PUBLIC
PRIORITY:5
TRANSP:OPAQUE
END:VEVENT
END:VCALENDAR
