BEGIN:VCALENDAR
PRODID:-//http://statistik.d-u-v.org//PHP ultracalendar//EN
VERSION:2.0
METHOD:PUBLISH
BEGIN:VEVENT
DTSTAMP:20260424T155145
CREATED:20191121T142655
UID:1777045905.0.12172600-62376@statistik.d-u-v.org
SUMMARY:UD Ultra Desafio 80 Km Passa Quatro
DESCRIPTION: UD Ultra Desafio 80 Km Passa Quatro\n
  Fernando Nogueira\n
  ultrarunner[at]ultrarunnereventos.net
DTSTART:20200208T100000
DTEND:20200209T020000
LOCATION:Passa Quatro, MG\, BRA
URL:http://www.ultrarunnereventos.net
CATEGORIES:Ultramarathon
CONTACT:Fernando Nogueira
CLASS:PUBLIC
PRIORITY:5
TRANSP:OPAQUE
END:VEVENT
END:VCALENDAR
