BEGIN:VCALENDAR
PRODID:-//http://statistik.d-u-v.org//PHP ultracalendar//EN
VERSION:2.0
METHOD:PUBLISH
BEGIN:VEVENT
DTSTAMP:20260423T063023
CREATED:20191118T093219
UID:1776925823.0.22704200-62209@statistik.d-u-v.org
SUMMARY:Atacama Crossing
DESCRIPTION: Atacama Crossing\n
  Samantha Fanshawe\n
  info[at]racingtheplanet.com
DTSTART:20200927T000000
DTEND:20201003T235900
LOCATION:San Pedro de Atacama\, CHI
URL:https://www.racingtheplanet.com/atacamacrossing
CATEGORIES:Ultramarathon
CONTACT:Samantha Fanshawe
CLASS:PUBLIC
PRIORITY:5
TRANSP:OPAQUE
END:VEVENT
END:VCALENDAR
