BEGIN:VCALENDAR
PRODID:-//http://statistik.d-u-v.org//PHP ultracalendar//EN
VERSION:2.0
METHOD:PUBLISH
BEGIN:VEVENT
DTSTAMP:20260419T233308
CREATED:20191118T091819
UID:1776641588.0.39587000-62205@statistik.d-u-v.org
SUMMARY:The Namib Race (Namibia)
DESCRIPTION: The Namib Race (Namibia)\n
  Samantha Fanshawe\n
  info[at]racingtheplanet.com
DTSTART:20201105T000000
DTEND:20201111T235900
LOCATION:Swakopmund\, NAM
URL:https://www.racingtheplanet.com/namibrace
CATEGORIES:Ultramarathon
CONTACT:Samantha Fanshawe
CLASS:PUBLIC
PRIORITY:5
TRANSP:OPAQUE
END:VEVENT
END:VCALENDAR
