BEGIN:VCALENDAR
PRODID:-//http://statistik.d-u-v.org//PHP ultracalendar//EN
VERSION:2.0
METHOD:PUBLISH
BEGIN:VEVENT
DTSTAMP:20260422T235118
CREATED:20191116T233850
UID:1776901878.0.50146800-62143@statistik.d-u-v.org
SUMMARY:Night Crawler 12 Hour Endurance Challenge
DESCRIPTION: Night Crawler 12 Hour Endurance Challenge\n
  Justin Kinner\n
  coachkinnerjr[at]gmail.com
DTSTART:20200828T183000
DTEND:20200829T063000
LOCATION:Casper, WY\, USA
URL:https://nightcrawler12-hourec.weebly.com/
CATEGORIES:Ultramarathon
CONTACT:Justin Kinner
CLASS:PUBLIC
PRIORITY:5
TRANSP:OPAQUE
END:VEVENT
END:VCALENDAR
