BEGIN:VCALENDAR
PRODID:-//http://statistik.d-u-v.org//PHP ultracalendar//EN
VERSION:2.0
METHOD:PUBLISH
BEGIN:VEVENT
DTSTAMP:20260420T035149
CREATED:20191116T150623
UID:1776657109.0.81770000-62114@statistik.d-u-v.org
SUMMARY:Bunketorp Backyard Ultra Trail
DESCRIPTION: Bunketorp Backyard Ultra Trail\n
  Torbjörn Grahn\n
  bbut.ikuven[at]gmail.com
DTSTART:20200808T100000
DTEND:00000000T235900
LOCATION:Bunketorp\, SWE
URL:https://idrottonline.se/IKUven-Orientering/Arrangemang/BunketorpBackyardUltraTrail
CATEGORIES:Ultramarathon
CONTACT:Torbjörn Grahn
CLASS:PUBLIC
PRIORITY:5
TRANSP:OPAQUE
END:VEVENT
END:VCALENDAR
