BEGIN:VCALENDAR
PRODID:-//http://statistik.d-u-v.org//PHP ultracalendar//EN
VERSION:2.0
METHOD:PUBLISH
BEGIN:VEVENT
DTSTAMP:20260424T161656
CREATED:20191116T122331
UID:1777047416.0.85782600-62100@statistik.d-u-v.org
SUMMARY:Rovaniemi 150 km Polar Circle Winter Race
DESCRIPTION: Rovaniemi 150 km Polar Circle Winter Race\n
  Àlex S.Casanovas, Race Director\n
  races[at]rovaniemi150.com
DTSTART:20200215T090000
DTEND:20200217T030000
LOCATION:Rovaniemi\, FIN
URL:http://www.rovaniemi150.com/
CATEGORIES:Ultramarathon
CONTACT:Àlex S.Casanovas, Race Director
CLASS:PUBLIC
PRIORITY:5
TRANSP:OPAQUE
END:VEVENT
END:VCALENDAR
