BEGIN:VCALENDAR
PRODID:-//http://statistik.d-u-v.org//PHP ultracalendar//EN
VERSION:2.0
METHOD:PUBLISH
BEGIN:VEVENT
DTSTAMP:20260422T195131
CREATED:20191116T125454
UID:1776887491.0.89114900-62091@statistik.d-u-v.org
SUMMARY:Bhatti Lakes 100 miles
DESCRIPTION: Bhatti Lakes 100 miles\n
  \n
  info[at]globeracers.com
DTSTART:20201106T140000
DTEND:20201108T235900
LOCATION:Delhi\, IND
URL:http://globeracers.com/bhatti-lakes-ultra/
CATEGORIES:Ultramarathon
CONTACT:
CLASS:PUBLIC
PRIORITY:5
TRANSP:OPAQUE
END:VEVENT
END:VCALENDAR
