BEGIN:VCALENDAR
PRODID:-//http://statistik.d-u-v.org//PHP ultracalendar//EN
VERSION:2.0
METHOD:PUBLISH
BEGIN:VEVENT
DTSTAMP:20260419T204218
CREATED:20191115T104621
UID:1776631338.0.18758200-62011@statistik.d-u-v.org
SUMMARY:Conociendo a la Pacha Mama (UTCPM) 85K
DESCRIPTION: Conociendo a la Pacha Mama (UTCPM) 85K\n
  Sandro del Río\n
  info[at]ecoatletas.com
DTSTART:20201011T050000
DTEND:20201012T235900
LOCATION:Tilcara, Jujuy\, ARG
URL:http://www.ecoatletas.com
CATEGORIES:Ultramarathon
CONTACT:Sandro del Río
CLASS:PUBLIC
PRIORITY:5
TRANSP:OPAQUE
END:VEVENT
END:VCALENDAR
